BEGIN:VCALENDAR
VERSION:2.0
PRODID:-//eventon.com NONSGML v1.0//EN
CALSCALE:GREGORIAN
METHOD:PUBLISH
BEGIN:VEVENT
UID:69e5e5b55d65b
DTSTAMP:20260420T083709Z
DTSTART:20241012T093000Z
DTEND:20241012T110000Z
LOCATION:Walter-Jakob-Halle Jesinger Halde 5\,  73230 Kirchheim unter Teck
SUMMARY:D-Jugend gemischt - VfL Kirchh/T vs. TV Altbach
DESCRIPTION:D-Jugend gemischt - VfL Kirchh/T vs. TV Altbach\nhttps://vfl-ki
 rchheim-handball.de/events/d-jugend-gemischt-vfl-kirchh-t-vs-tv-altbach/
URL:https://vfl-kirchheim-handball.de/events/d-jugend-gemischt-vfl-kirchh-t-vs-tv-altbach/
END:VEVENT
END:VCALENDAR