BEGIN:VCALENDAR
VERSION:2.0
PRODID:-//eventon.com NONSGML v1.0//EN
CALSCALE:GREGORIAN
METHOD:PUBLISH
BEGIN:VEVENT
UID:69e5e38959fc6
DTSTAMP:20260420T082753Z
DTSTART:20260301T105000Z
DTEND:20260301T000500Z
LOCATION:Öschhalle 2 Staufeneckstraße 41 73054 Eislingen/Fils
SUMMARY:TSG Eislingen vs. VfL Kirchheim
DESCRIPTION:TSG Eislingen vs. VfL Kirchheim\nhttps://vfl-kirchheim-handball
 .de/events/tsg-eislingen-vs-vfl-kirchheim-5/
URL:https://vfl-kirchheim-handball.de/events/tsg-eislingen-vs-vfl-kirchheim-5/
END:VEVENT
END:VCALENDAR